Workbook

Sheet Ученики
A1: Ученик | B1: Предмет | C1: Класс | D1: Цена занятия, ₽
A2: Аня | B2: Математика | C2: 9 | D2: 1500
A3: Миша | B3: Физика | C3: 10 | D3: 1800
A4: Соня | B4: Английский | C4: 5 | D4: 1200
A5: Дима | B5: Математика | C5: 11 | D5: 2000

Sheet Занятия
A1: Дата | B1: Ученик | C1: Длительность, мин | D1: Статус | E1: Сумма, ₽
A2: 46328 | B2: Аня | C2: 60 | D2: Проведено | E2: =IF(OR(B2="",D2<>"Проведено"),0,IFERROR(VLOOKUP(B2,Ученики!$A$2:$D$21,4,FALSE),0))
A3: 46329 | B3: Миша | C3: 90 | D3: Проведено | E3: =IF(OR(B3="",D3<>"Проведено"),0,IFERROR(VLOOKUP(B3,Ученики!$A$2:$D$21,4,FALSE),0))
A4: 46329 | B4: Соня | C4: 45 | D4: Проведено | E4: =IF(OR(B4="",D4<>"Проведено"),0,IFERROR(VLOOKUP(B4,Ученики!$A$2:$D$21,4,FALSE),0))
A5: 46330 | B5: Дима | C5: 90 | D5: Проведено | E5: =IF(OR(B5="",D5<>"Проведено"),0,IFERROR(VLOOKUP(B5,Ученики!$A$2:$D$21,4,FALSE),0))
A6: 46332 | B6: Аня | C6: 60 | D6: Проведено | E6: =IF(OR(B6="",D6<>"Проведено"),0,IFERROR(VLOOKUP(B6,Ученики!$A$2:$D$21,4,FALSE),0))
A7: 46335 | B7: Аня | C7: 60 | D7: Отменено | E7: =IF(OR(B7="",D7<>"Проведено"),0,IFERROR(VLOOKUP(B7,Ученики!$A$2:$D$21,4,FALSE),0))
A8: 46336 | B8: Миша | C8: 90 | D8: Проведено | E8: =IF(OR(B8="",D8<>"Проведено"),0,IFERROR(VLOOKUP(B8,Ученики!$A$2:$D$21,4,FALSE),0))
A9: 46336 | B9: Соня | C9: 45 | D9: Проведено | E9: =IF(OR(B9="",D9<>"Проведено"),0,IFERROR(VLOOKUP(B9,Ученики!$A$2:$D$21,4,FALSE),0))
A10: 46337 | B10: Дима | C10: 90 | D10: Перенос | E10: =IF(OR(B10="",D10<>"Проведено"),0,IFERROR(VLOOKUP(B10,Ученики!$A$2:$D$21,4,FALSE),0))
A11: 46339 | B11: Аня | C11: 60 | D11: Проведено | E11: =IF(OR(B11="",D11<>"Проведено"),0,IFERROR(VLOOKUP(B11,Ученики!$A$2:$D$21,4,FALSE),0))
A12: 46339 | B12: Дима | C12: 90 | D12: Проведено | E12: =IF(OR(B12="",D12<>"Проведено"),0,IFERROR(VLOOKUP(B12,Ученики!$A$2:$D$21,4,FALSE),0))
A13: 46343 | B13: Миша | C13: 90 | D13: Проведено | E13: =IF(OR(B13="",D13<>"Проведено"),0,IFERROR(VLOOKUP(B13,Ученики!$A$2:$D$21,4,FALSE),0))
E14: =IF(OR(B14="",D14<>"Проведено"),0,IFERROR(VLOOKUP(B14,Ученики!$A$2:$D$21,4,FALSE),0))
E15: =IF(OR(B15="",D15<>"Проведено"),0,IFERROR(VLOOKUP(B15,Ученики!$A$2:$D$21,4,FALSE),0))
E16: =IF(OR(B16="",D16<>"Проведено"),0,IFERROR(VLOOKUP(B16,Ученики!$A$2:$D$21,4,FALSE),0))
E17: =IF(OR(B17="",D17<>"Проведено"),0,IFERROR(VLOOKUP(B17,Ученики!$A$2:$D$21,4,FALSE),0))
E18: =IF(OR(B18="",D18<>"Проведено"),0,IFERROR(VLOOKUP(B18,Ученики!$A$2:$D$21,4,FALSE),0))
E19: =IF(OR(B19="",D19<>"Проведено"),0,IFERROR(VLOOKUP(B19,Ученики!$A$2:$D$21,4,FALSE),0))
E20: =IF(OR(B20="",D20<>"Проведено"),0,IFERROR(VLOOKUP(B20,Ученики!$A$2:$D$21,4,FALSE),0))
E21: =IF(OR(B21="",D21<>"Проведено"),0,IFERROR(VLOOKUP(B21,Ученики!$A$2:$D$21,4,FALSE),0))
E22: =IF(OR(B22="",D22<>"Проведено"),0,IFERROR(VLOOKUP(B22,Ученики!$A$2:$D$21,4,FALSE),0))
E23: =IF(OR(B23="",D23<>"Проведено"),0,IFERROR(VLOOKUP(B23,Ученики!$A$2:$D$21,4,FALSE),0))
E24: =IF(OR(B24="",D24<>"Проведено"),0,IFERROR(VLOOKUP(B24,Ученики!$A$2:$D$21,4,FALSE),0))
E25: =IF(OR(B25="",D25<>"Проведено"),0,IFERROR(VLOOKUP(B25,Ученики!$A$2:$D$21,4,FALSE),0))
... E101: =IF(OR(B101="",D101<>"Проведено"),0,IFERROR(VLOOKUP(B101,Ученики!$A$2:$D$21,4,FALSE),0))

Sheet Оплаты и долги
A1: Дата оплаты | B1: Ученик | C1: Сумма, ₽ | E1: Ученик | F1: Начислено, ₽ | G1: Оплачено, ₽ | H1: Долг, ₽ (минус = предоплата)
A2: 46328 | B2: Аня | C2: 3000 | E2: =IF(Ученики!A2="","",Ученики!A2) | F2: =IF(E2="","",SUMIFS(Занятия!$E$2:$E$101,Занятия!$B$2:$B$101,E2)) | G2: =IF(E2="","",SUMIFS($C$2:$C$101,$B$2:$B$101,E2)) | H2: =IF(E2="","",F2-G2)
A3: 46329 | B3: Миша | C3: 1800 | E3: =IF(Ученики!A3="","",Ученики!A3) | F3: =IF(E3="","",SUMIFS(Занятия!$E$2:$E$101,Занятия!$B$2:$B$101,E3)) | G3: =IF(E3="","",SUMIFS($C$2:$C$101,$B$2:$B$101,E3)) | H3: =IF(E3="","",F3-G3)
A4: 46331 | B4: Соня | C4: 2400 | E4: =IF(Ученики!A4="","",Ученики!A4) | F4: =IF(E4="","",SUMIFS(Занятия!$E$2:$E$101,Занятия!$B$2:$B$101,E4)) | G4: =IF(E4="","",SUMIFS($C$2:$C$101,$B$2:$B$101,E4)) | H4: =IF(E4="","",F4-G4)
A5: 46338 | B5: Дима | C5: 2000 | E5: =IF(Ученики!A5="","",Ученики!A5) | F5: =IF(E5="","",SUMIFS(Занятия!$E$2:$E$101,Занятия!$B$2:$B$101,E5)) | G5: =IF(E5="","",SUMIFS($C$2:$C$101,$B$2:$B$101,E5)) | H5: =IF(E5="","",F5-G5)
A6: 46340 | B6: Аня | C6: 1500 | E6: =IF(Ученики!A6="","",Ученики!A6) | F6: =IF(E6="","",SUMIFS(Занятия!$E$2:$E$101,Занятия!$B$2:$B$101,E6)) | G6: =IF(E6="","",SUMIFS($C$2:$C$101,$B$2:$B$101,E6)) | H6: =IF(E6="","",F6-G6)
E7: =IF(Ученики!A7="","",Ученики!A7) | F7: =IF(E7="","",SUMIFS(Занятия!$E$2:$E$101,Занятия!$B$2:$B$101,E7)) | G7: =IF(E7="","",SUMIFS($C$2:$C$101,$B$2:$B$101,E7)) | H7: =IF(E7="","",F7-G7)
E8: =IF(Ученики!A8="","",Ученики!A8) | F8: =IF(E8="","",SUMIFS(Занятия!$E$2:$E$101,Занятия!$B$2:$B$101,E8)) | G8: =IF(E8="","",SUMIFS($C$2:$C$101,$B$2:$B$101,E8)) | H8: =IF(E8="","",F8-G8)
E9: =IF(Ученики!A9="","",Ученики!A9) | F9: =IF(E9="","",SUMIFS(Занятия!$E$2:$E$101,Занятия!$B$2:$B$101,E9)) | G9: =IF(E9="","",SUMIFS($C$2:$C$101,$B$2:$B$101,E9)) | H9: =IF(E9="","",F9-G9)
E10: =IF(Ученики!A10="","",Ученики!A10) | F10: =IF(E10="","",SUMIFS(Занятия!$E$2:$E$101,Занятия!$B$2:$B$101,E10)) | G10: =IF(E10="","",SUMIFS($C$2:$C$101,$B$2:$B$101,E10)) | H10: =IF(E10="","",F10-G10)
E11: =IF(Ученики!A11="","",Ученики!A11) | F11: =IF(E11="","",SUMIFS(Занятия!$E$2:$E$101,Занятия!$B$2:$B$101,E11)) | G11: =IF(E11="","",SUMIFS($C$2:$C$101,$B$2:$B$101,E11)) | H11: =IF(E11="","",F11-G11)
E12: =IF(Ученики!A12="","",Ученики!A12) | F12: =IF(E12="","",SUMIFS(Занятия!$E$2:$E$101,Занятия!$B$2:$B$101,E12)) | G12: =IF(E12="","",SUMIFS($C$2:$C$101,$B$2:$B$101,E12)) | H12: =IF(E12="","",F12-G12)
E13: =IF(Ученики!A13="","",Ученики!A13) | F13: =IF(E13="","",SUMIFS(Занятия!$E$2:$E$101,Занятия!$B$2:$B$101,E13)) | G13: =IF(E13="","",SUMIFS($C$2:$C$101,$B$2:$B$101,E13)) | H13: =IF(E13="","",F13-G13)
E14: =IF(Ученики!A14="","",Ученики!A14) | F14: =IF(E14="","",SUMIFS(Занятия!$E$2:$E$101,Занятия!$B$2:$B$101,E14)) | G14: =IF(E14="","",SUMIFS($C$2:$C$101,$B$2:$B$101,E14)) | H14: =IF(E14="","",F14-G14)
E15: =IF(Ученики!A15="","",Ученики!A15) | F15: =IF(E15="","",SUMIFS(Занятия!$E$2:$E$101,Занятия!$B$2:$B$101,E15)) | G15: =IF(E15="","",SUMIFS($C$2:$C$101,$B$2:$B$101,E15)) | H15: =IF(E15="","",F15-G15)
E16: =IF(Ученики!A16="","",Ученики!A16) | F16: =IF(E16="","",SUMIFS(Занятия!$E$2:$E$101,Занятия!$B$2:$B$101,E16)) | G16: =IF(E16="","",SUMIFS($C$2:$C$101,$B$2:$B$101,E16)) | H16: =IF(E16="","",F16-G16)
E17: =IF(Ученики!A17="","",Ученики!A17) | F17: =IF(E17="","",SUMIFS(Занятия!$E$2:$E$101,Занятия!$B$2:$B$101,E17)) | G17: =IF(E17="","",SUMIFS($C$2:$C$101,$B$2:$B$101,E17)) | H17: =IF(E17="","",F17-G17)
E18: =IF(Ученики!A18="","",Ученики!A18) | F18: =IF(E18="","",SUMIFS(Занятия!$E$2:$E$101,Занятия!$B$2:$B$101,E18)) | G18: =IF(E18="","",SUMIFS($C$2:$C$101,$B$2:$B$101,E18)) | H18: =IF(E18="","",F18-G18)
... E21: =IF(Ученики!A21="","",Ученики!A21) | F21: =IF(E21="","",SUMIFS(Занятия!$E$2:$E$101,Занятия!$B$2:$B$101,E21)) | G21: =IF(E21="","",SUMIFS($C$2:$C$101,$B$2:$B$101,E21)) | H21: =IF(E21="","",F21-G21)

Sheet Итоги месяца
A1: Месяц (первое число) | B1: 46327
A2: Занятий проведено | B2: =COUNTIFS(Занятия!$D$2:$D$101,"Проведено",Занятия!$A$2:$A$101,">="&$B$1,Занятия!$A$2:$A$101,"<"&EDATE($B$1,1))
A3: Занятий отменено | B3: =COUNTIFS(Занятия!$D$2:$D$101,"Отменено",Занятия!$A$2:$A$101,">="&$B$1,Занятия!$A$2:$A$101,"<"&EDATE($B$1,1))
A4: Занятий перенесено | B4: =COUNTIFS(Занятия!$D$2:$D$101,"Перенос",Занятия!$A$2:$A$101,">="&$B$1,Занятия!$A$2:$A$101,"<"&EDATE($B$1,1))
A5: Начислено за месяц, ₽ | B5: =SUMIFS(Занятия!$E$2:$E$101,Занятия!$A$2:$A$101,">="&$B$1,Занятия!$A$2:$A$101,"<"&EDATE($B$1,1))
A6: Получено за месяц, ₽ | B6: =SUMIFS('Оплаты и долги'!$C$2:$C$101,'Оплаты и долги'!$A$2:$A$101,">="&$B$1,'Оплаты и долги'!$A$2:$A$101,"<"&EDATE($B$1,1))
A7: Общий долг учеников на сегодня, ₽ | B7: =SUM('Оплаты и долги'!$H$2:$H$21)

Sheet Когда таблица не справится
A1: Когда таблица перестанет справляться
A2: Таблица хороша, пока вы помните всё сами. Признаки, что она начинает мешать:
A3: • одно и то же приходится вносить в несколько листов или файлов;
A4: • расписание лежит отдельно от оплат, а долги вы сверяете вручную;
A5: • учеников стало больше, и строки легко перепутать;
A6: • хочется смотреть учёт с телефона и не бояться испортить формулу.
A8: Тогда можно попробовать TutRoom: кабинет репетитора, работает в браузере.
A9: Тариф Free: 0 ₽, до 6 учеников. Тариф Pro: 399 ₽ в месяц.
A10: =HYPERLINK("https://tutroom.ru/?utm_source=template&utm_medium=xlsx","Открыть TutRoom")
A11: https://tutroom.ru/?utm_source=template&utm_medium=xlsx
